BEGIN:VCALENDAR
VERSION:2.0
PRODID:-//Centre for Teaching Support &amp; Innovation - ECPv6.15.20//NONSGML v1.0//EN
CALSCALE:GREGORIAN
METHOD:PUBLISH
X-WR-CALNAME:Centre for Teaching Support &amp; Innovation
X-ORIGINAL-URL:https://teachingdev.lamp4.utoronto.ca
X-WR-CALDESC:Events for Centre for Teaching Support &amp; Innovation
REFRESH-INTERVAL;VALUE=DURATION:PT1H
X-Robots-Tag:noindex
X-PUBLISHED-TTL:PT1H
BEGIN:VTIMEZONE
TZID:America/Toronto
BEGIN:DAYLIGHT
TZOFFSETFROM:-0500
TZOFFSETTO:-0400
TZNAME:EDT
DTSTART:20240310T070000
END:DAYLIGHT
BEGIN:STANDARD
TZOFFSETFROM:-0400
TZOFFSETTO:-0500
TZNAME:EST
DTSTART:20241103T060000
END:STANDARD
BEGIN:DAYLIGHT
TZOFFSETFROM:-0500
TZOFFSETTO:-0400
TZNAME:EDT
DTSTART:20250309T070000
END:DAYLIGHT
BEGIN:STANDARD
TZOFFSETFROM:-0400
TZOFFSETTO:-0500
TZNAME:EST
DTSTART:20251102T060000
END:STANDARD
BEGIN:DAYLIGHT
TZOFFSETFROM:-0500
TZOFFSETTO:-0400
TZNAME:EDT
DTSTART:20260308T070000
END:DAYLIGHT
BEGIN:STANDARD
TZOFFSETFROM:-0400
TZOFFSETTO:-0500
TZNAME:EST
DTSTART:20261101T060000
END:STANDARD
END:VTIMEZONE
BEGIN:VEVENT
DTSTART;TZID=America/Toronto:20250624T113000
DTEND;TZID=America/Toronto:20250624T120000
DTSTAMP:20260422T174349
CREATED:20250331T194727Z
LAST-MODIFIED:20250615T233522Z
UID:10009069-1750764600-1750766400@teachingdev.lamp4.utoronto.ca
SUMMARY:UDL Express: SLIDE into Accessibility: Images
DESCRIPTION:(June 24th topic) Images: Add effective alt text and avoid common image accessibility barriersJoin us this summer for UDL Express: SLIDE into Accessibility\, a quick and practical series designed to help you make your course materials more accessible and inclusive. In this five-part Zoom series\, we’ll focus on the most impactful\, easy-to-implement accessibility fixes using the SLIDE framework—Styles\, Links\, Images\, Design\, and Evaluation. Each 30-minute session includes a 10-minute demo\, followed by time to apply what you’ve learned with guidance and support. Whether you’re working in Word\, PowerPoint\, or your Quercus course\, these small but powerful changes can make a big difference for all your learners. By the end of this series\, participants will be able to: • Identify five key elements of accessible course content using the SLIDE framework • Apply quick\, high-impact accessibility fixes to Word\, PowerPoint\, and Quercus materials • Use built-in tools and strategies to evaluate and improve the accessibility of digital content Session Schedule and Topics • Styles: Learn how to use built-in styles and headings to improve navigation and structure (https://ctsi.eve.utoronto.ca/home/events/5573) (May 27\, 11:30am-12pm) • Links: Make hyperlinks clear and meaningful for all users (https://ctsi.eve.utoronto.ca/home/events/5574) (June 10\, 11:30am-12pm) • Design: Apply colour and font choices that improve readability and reduce cognitive load (https://ctsi.eve.utoronto.ca/home/events/5576) (July 8\, 11:30am-12pm) • Evaluation: Use built-in accessibility checkers and review tools to assess and improve your content (https://ctsi.eve.utoronto.ca/home/events/5577) (July 22\, 11:30am-12pm) Whether you’re updating lecture slides\, course outlines\, or online modules\, these sessions will equip you with easy\, actionable skills that can make your materials more accessible to everyone. Learn more about the UDL Express: SLIDE into Accessibility and the UDL Conversations Series (https://teaching.utoronto.ca/teaching-uoft-udl/udl-programming/udl-conversations/). 
URL:https://teachingdev.lamp4.utoronto.ca/event/udl-express-slide-into-accessibility-images/
END:VEVENT
BEGIN:VEVENT
DTSTART;TZID=America/Toronto:20250626T093000
DTEND;TZID=America/Toronto:20250626T110000
DTSTAMP:20260422T174349
CREATED:20250515T215031Z
LAST-MODIFIED:20250625T162522Z
UID:10009085-1750930200-1750935600@teachingdev.lamp4.utoronto.ca
SUMMARY:U of T Teaching Grants Workshop
DESCRIPTION:Facilitators:Michelle Beaton\, Director\, International Relations\, Office of the Vice-President\, InternationalBrian Desrosiers-Tam\, Assistant Dean\, School of Graduate StudiesJennifer Evans\, Manager\, Teaching Initiatives\, Office of the Vice-Provost\, Innovations in Undergraduate EducationClare Gilderdale\, Director\, Innovations in Undergraduate Education\, Office of the Vice-Provost\, Innovations in Undergraduate EducationTom Parker\, Grants and Office Manager\, Office of the Vice-President\, InternationalAnda Petro\, Programs & Pathways Officer\, Access Strategy & Partnerships OfficeHelen Tewolde\, Director\, Access Strategy & Partnerships OfficeAre you interested in learning about teaching and learning funding opportunities available to U of T faculty and staff? If so\, you are invited to participate in a 90-minute online workshop that provides a general overview of four major institutional teaching and learning grants:Access Programs University Fund (https://www.aspo.utoronto.ca/apuf-home/) (APUF)International Student Experience Fund (https://international.utoronto.ca/opportunities/isef/) (ISEF)Graduate Education Innovation Fund (https://www.sgs.utoronto.ca/about/innovation-in-graduate-education/graduate-education-innovation-fund/) (GEIF)Learning & Education Advancement Fund (https://www.viceprovostundergrad.utoronto.ca/16072-2/teaching-awards-grants/learning-education-advancement-fund-leaf/) (LEAF)By the end of this session you will have:• Gained an understanding of available funding avenues at U of T that support teaching and learning projects and the application processes• Gained knowledge of the essential elements and key principles guiding effective proposal writing• Explored grant ideas with U of T colleagues• Identified key resources to consult for your proposal writing
URL:https://teachingdev.lamp4.utoronto.ca/event/u-of-t-teaching-grants-workshop-2/
END:VEVENT
BEGIN:VEVENT
DTSTART;TZID=America/Toronto:20250708T113000
DTEND;TZID=America/Toronto:20250708T120000
DTSTAMP:20260422T174349
CREATED:20250331T194727Z
LAST-MODIFIED:20250625T162522Z
UID:10009070-1751974200-1751976000@teachingdev.lamp4.utoronto.ca
SUMMARY:UDL Express: SLIDE into Accessibility: Design
DESCRIPTION:(July 8th topic) Design: Apply colour and font choices that improve readability and reduce cognitive loadJoin us this summer for UDL Express: SLIDE into Accessibility\, a quick and practical series designed to help you make your course materials more accessible and inclusive. In this five-part Zoom series\, we’ll focus on the most impactful\, easy-to-implement accessibility fixes using the SLIDE framework—Styles\, Links\, Images\, Design\, and Evaluation. Each 30-minute session includes a 10-minute demo\, followed by time to apply what you’ve learned with guidance and support. Whether you’re working in Word\, PowerPoint\, or your Quercus course\, these small but powerful changes can make a big difference for all your learners. By the end of this series\, participants will be able to: • Identify five key elements of accessible course content using the SLIDE framework • Apply quick\, high-impact accessibility fixes to Word\, PowerPoint\, and Quercus materials • Use built-in tools and strategies to evaluate and improve the accessibility of digital content Session Schedule and Topics • Styles: Learn how to use built-in styles and headings to improve navigation and structure (https://ctsi.eve.utoronto.ca/home/events/5573) (May 27\, 11:30am-12pm) • Links: Make hyperlinks clear and meaningful for all users (https://ctsi.eve.utoronto.ca/home/events/5574) (June 10\, 11:30am-12pm) • Images: Add effective alt text and avoid common image accessibility barriers (https://ctsi.eve.utoronto.ca/home/events/5575) (June 24\, 11:30am-12pm) • Evaluation: Use built-in accessibility checkers and review tools to assess and improve your content (https://ctsi.eve.utoronto.ca/home/events/5577) (July 22\, 11:30am-12pm) Whether you’re updating lecture slides\, course outlines\, or online modules\, these sessions will equip you with easy\, actionable skills that can make your materials more accessible to everyone. Learn more about the UDL Express: SLIDE into Accessibility and the UDL Conversations Series (https://teaching.utoronto.ca/teaching-uoft-udl/udl-programming/udl-conversations/). 
URL:https://teachingdev.lamp4.utoronto.ca/event/udl-express-slide-into-accessibility-design/
END:VEVENT
BEGIN:VEVENT
DTSTART;TZID=America/Toronto:20250708T140000
DTEND;TZID=America/Toronto:20250708T160000
DTSTAMP:20260422T174349
CREATED:20250612T213518Z
LAST-MODIFIED:20250708T230520Z
UID:10009092-1751983200-1751990400@teachingdev.lamp4.utoronto.ca
SUMMARY:You Design Learning: Your Learners\, Your Context\, Your UDL Design
DESCRIPTION:
URL:https://teachingdev.lamp4.utoronto.ca/event/you-design-learning-your-learners-your-context-your-udl-design/
CATEGORIES:Teaching Assistants' Training Program
END:VEVENT
BEGIN:VEVENT
DTSTART;TZID=America/Toronto:20250709T110000
DTEND;TZID=America/Toronto:20250709T130000
DTSTAMP:20260422T174349
CREATED:20250526T204022Z
LAST-MODIFIED:20250709T230526Z
UID:10009087-1752058800-1752066000@teachingdev.lamp4.utoronto.ca
SUMMARY:Peer Review Session (Online)
DESCRIPTION:
URL:https://teachingdev.lamp4.utoronto.ca/event/peer-review-session-online-4/
CATEGORIES:Teaching Assistants' Training Program
END:VEVENT
BEGIN:VEVENT
DTSTART;TZID=America/Toronto:20250710T130000
DTEND;TZID=America/Toronto:20250710T160000
DTSTAMP:20260422T174349
CREATED:20250610T212035Z
LAST-MODIFIED:20250710T232033Z
UID:10009091-1752152400-1752163200@teachingdev.lamp4.utoronto.ca
SUMMARY:Microteaching (Online)
DESCRIPTION:
URL:https://teachingdev.lamp4.utoronto.ca/event/microteaching-online-35/
CATEGORIES:Teaching Assistants' Training Program
END:VEVENT
BEGIN:VEVENT
DTSTART;TZID=America/Toronto:20250715T100000
DTEND;TZID=America/Toronto:20250715T120000
DTSTAMP:20260422T174349
CREATED:20250615T221023Z
LAST-MODIFIED:20250715T232032Z
UID:10009093-1752573600-1752580800@teachingdev.lamp4.utoronto.ca
SUMMARY:Statement of Teaching Philosophy Clinic (Online)
DESCRIPTION:
URL:https://teachingdev.lamp4.utoronto.ca/event/statement-of-teaching-philosophy-clinic-online-5/
CATEGORIES:Teaching Assistants' Training Program
END:VEVENT
BEGIN:VEVENT
DTSTART;TZID=America/Toronto:20250722T113000
DTEND;TZID=America/Toronto:20250722T120000
DTSTAMP:20260422T174349
CREATED:20250331T194727Z
LAST-MODIFIED:20250625T162522Z
UID:10009071-1753183800-1753185600@teachingdev.lamp4.utoronto.ca
SUMMARY:UDL Express: SLIDE into Accessibility: Evaluation
DESCRIPTION:(July 22nd topic) Evaluation: Use built-in accessibility checkers and review tools to assess and improve your contentJoin us this summer for UDL Express: SLIDE into Accessibility\, a quick and practical series designed to help you make your course materials more accessible and inclusive. In this five-part Zoom series\, we’ll focus on the most impactful\, easy-to-implement accessibility fixes using the SLIDE framework—Styles\, Links\, Images\, Design\, and Evaluation. Each 30-minute session includes a 10-minute demo\, followed by time to apply what you’ve learned with guidance and support. Whether you’re working in Word\, PowerPoint\, or your Quercus course\, these small but powerful changes can make a big difference for all your learners. By the end of this series\, participants will be able to: • Identify five key elements of accessible course content using the SLIDE framework • Apply quick\, high-impact accessibility fixes to Word\, PowerPoint\, and Quercus materials • Use built-in tools and strategies to evaluate and improve the accessibility of digital content Session Schedule and Topics • Styles: Learn how to use built-in styles and headings to improve navigation and structure (https://ctsi.eve.utoronto.ca/home/events/5573) (May 27\, 11:30am-12pm) • Links: Make hyperlinks clear and meaningful for all users (https://ctsi.eve.utoronto.ca/home/events/5574) (June 10\, 11:30am-12pm) • Images: Add effective alt text and avoid common image accessibility barriers (https://ctsi.eve.utoronto.ca/home/events/5575) (June 24\, 11:30am-12pm) • Design: Apply colour and font choices that improve readability and reduce cognitive load (https://ctsi.eve.utoronto.ca/home/events/5576) (July 8\, 11:30am-12pm) Whether you’re updating lecture slides\, course outlines\, or online modules\, these sessions will equip you with easy\, actionable skills that can make your materials more accessible to everyone. Learn more about the UDL Express: SLIDE into Accessibility and the UDL Conversations Series (https://teaching.utoronto.ca/teaching-uoft-udl/udl-programming/udl-conversations/). 
URL:https://teachingdev.lamp4.utoronto.ca/event/udl-express-slide-into-accessibility-evaluation/
END:VEVENT
BEGIN:VEVENT
DTSTART;TZID=America/Toronto:20250730T123000
DTEND;TZID=America/Toronto:20250730T140000
DTSTAMP:20260422T174349
CREATED:20250606T232024Z
LAST-MODIFIED:20250625T162522Z
UID:10009089-1753878600-1753884000@teachingdev.lamp4.utoronto.ca
SUMMARY:Building an Effective LEAF Application: From Idea to Submission
DESCRIPTION:Facilitators:Clare Gilderdale\, Director\, Innovations in Undergraduate Education\, Office of the Vice-Provost\, Innovations in Undergraduate EducationJennifer Evans\, Manager\, Teaching Initiatives\, Office of the Vice-Provost\, Innovations in Undergraduate EducationJeff Burrow\, Special Projects Officer\, Office of the Vice-Provost\, Innovations in Undergraduate EducationNina Mondre-Schweppe\, Teaching Initiatives Coordinator\, Office of the Vice-Provost\, Innovations in Undergraduate EducationThis workshop is designed for instructors and staff interested in applying for the Learning & Education Advancement Fund (LEAF) program. Topics covered in our workshop will include everything from defining a project for the Expression of Interest to addressing project sustainability to the basics of building an effective\, integrated assessment strategy. Please note: this session will be recorded. 
URL:https://teachingdev.lamp4.utoronto.ca/event/building-an-effective-leaf-application-from-idea-to-submission-5/
END:VEVENT
BEGIN:VEVENT
DTSTART;TZID=America/Toronto:20250819T130000
DTEND;TZID=America/Toronto:20250819T160000
DTSTAMP:20260422T174349
CREATED:20250720T232026Z
LAST-MODIFIED:20250819T163617Z
UID:10009094-1755608400-1755619200@teachingdev.lamp4.utoronto.ca
SUMMARY:Course Instructor Training Camp – August 2025 (Online)
DESCRIPTION:
URL:https://teachingdev.lamp4.utoronto.ca/event/course-instructor-training-camp-august-2025-online/
CATEGORIES:Teaching Assistants' Training Program
END:VEVENT
BEGIN:VEVENT
DTSTART;TZID=America/Toronto:20250826T090000
DTEND;TZID=America/Toronto:20250828T123000
DTSTAMP:20260422T174349
CREATED:20250729T131926Z
LAST-MODIFIED:20250826T190136Z
UID:10009095-1756198800-1756384200@teachingdev.lamp4.utoronto.ca
SUMMARY:TA Week 2025
DESCRIPTION:
URL:https://teachingdev.lamp4.utoronto.ca/event/ta-week-2025/
CATEGORIES:Teaching Assistants' Training Program
END:VEVENT
BEGIN:VEVENT
DTSTART;TZID=America/Toronto:20250826T090000
DTEND;TZID=America/Toronto:20250828T123000
DTSTAMP:20260422T174349
CREATED:20250806T143157Z
LAST-MODIFIED:20250826T190137Z
UID:10009096-1756198800-1756384200@teachingdev.lamp4.utoronto.ca
SUMMARY:Tri-Campus TA Week 2025
DESCRIPTION:
URL:https://teachingdev.lamp4.utoronto.ca/event/tri-campus-ta-week-2025/
LOCATION:Name: Myhal Centre for Engineering Innovation & Entrepreneurship\nAddress: 55 St. George St\nToronto\nON\nM5S 0C9
CATEGORIES:Teaching Assistants' Training Program
END:VEVENT
BEGIN:VEVENT
DTSTART;TZID=America/Toronto:20250909T110000
DTEND;TZID=America/Toronto:20250909T130000
DTSTAMP:20260422T174349
CREATED:20250810T145559Z
LAST-MODIFIED:20250909T142950Z
UID:10009097-1757415600-1757422800@teachingdev.lamp4.utoronto.ca
SUMMARY:Online First Contract Training: Humanities
DESCRIPTION:
URL:https://teachingdev.lamp4.utoronto.ca/event/online-first-contract-training-humanities-9/
CATEGORIES:Teaching Assistants' Training Program
END:VEVENT
BEGIN:VEVENT
DTSTART;TZID=America/Toronto:20250909T130000
DTEND;TZID=America/Toronto:20250909T150000
DTSTAMP:20260422T174349
CREATED:20250810T145600Z
LAST-MODIFIED:20250909T142951Z
UID:10009098-1757422800-1757430000@teachingdev.lamp4.utoronto.ca
SUMMARY:Online First Contract Training: Sciences & Engineering
DESCRIPTION:
URL:https://teachingdev.lamp4.utoronto.ca/event/online-first-contract-training-sciences-engineering-12/
CATEGORIES:Teaching Assistants' Training Program
END:VEVENT
BEGIN:VEVENT
DTSTART;TZID=America/Toronto:20250909T150000
DTEND;TZID=America/Toronto:20250909T170000
DTSTAMP:20260422T174349
CREATED:20250810T145600Z
LAST-MODIFIED:20250909T142951Z
UID:10009099-1757430000-1757437200@teachingdev.lamp4.utoronto.ca
SUMMARY:Online First Contract Training: Social Sciences
DESCRIPTION:
URL:https://teachingdev.lamp4.utoronto.ca/event/online-first-contract-training-social-sciences-10/
CATEGORIES:Teaching Assistants' Training Program
END:VEVENT
BEGIN:VEVENT
DTSTART;TZID=America/Toronto:20250910T090000
DTEND;TZID=America/Toronto:20250910T110000
DTSTAMP:20260422T174349
CREATED:20250811T150526Z
LAST-MODIFIED:20250909T142951Z
UID:10009100-1757494800-1757502000@teachingdev.lamp4.utoronto.ca
SUMMARY:Online First Contract Training: Humanities
DESCRIPTION:
URL:https://teachingdev.lamp4.utoronto.ca/event/online-first-contract-training-humanities-10/
CATEGORIES:Teaching Assistants' Training Program
END:VEVENT
BEGIN:VEVENT
DTSTART;TZID=America/Toronto:20250910T093000
DTEND;TZID=America/Toronto:20250910T113000
DTSTAMP:20260422T174349
CREATED:20250818T162137Z
LAST-MODIFIED:20250907T132733Z
UID:10009110-1757496600-1757503800@teachingdev.lamp4.utoronto.ca
SUMMARY:UTSC: In-Person First Contract Training: All Disciplines
DESCRIPTION:
URL:https://teachingdev.lamp4.utoronto.ca/event/utsc-in-person-first-contract-training-all-disciplines/
LOCATION:Name: University of Toronto Scarborough – AA160\nAddress: 1265 Military Trail\nScarborough\nON
CATEGORIES:Teaching Assistants' Training Program
END:VEVENT
BEGIN:VEVENT
DTSTART;TZID=America/Toronto:20250910T110000
DTEND;TZID=America/Toronto:20250910T130000
DTSTAMP:20260422T174349
CREATED:20250811T150526Z
LAST-MODIFIED:20250909T142951Z
UID:10009101-1757502000-1757509200@teachingdev.lamp4.utoronto.ca
SUMMARY:Online First Contract Training: Sciences & Engineering
DESCRIPTION:
URL:https://teachingdev.lamp4.utoronto.ca/event/online-first-contract-training-sciences-engineering-13/
CATEGORIES:Teaching Assistants' Training Program
END:VEVENT
BEGIN:VEVENT
DTSTART;TZID=America/Toronto:20250910T130000
DTEND;TZID=America/Toronto:20250910T150000
DTSTAMP:20260422T174349
CREATED:20250811T150527Z
LAST-MODIFIED:20250909T142951Z
UID:10009102-1757509200-1757516400@teachingdev.lamp4.utoronto.ca
SUMMARY:Online First Contract Training: Social Sciences
DESCRIPTION:
URL:https://teachingdev.lamp4.utoronto.ca/event/online-first-contract-training-social-sciences-11/
CATEGORIES:Teaching Assistants' Training Program
END:VEVENT
BEGIN:VEVENT
DTSTART;TZID=America/Toronto:20250911T100000
DTEND;TZID=America/Toronto:20250911T120000
DTSTAMP:20260422T174349
CREATED:20250812T150531Z
LAST-MODIFIED:20250911T153438Z
UID:10009103-1757584800-1757592000@teachingdev.lamp4.utoronto.ca
SUMMARY:Online First Contract Training: Social Sciences
DESCRIPTION:
URL:https://teachingdev.lamp4.utoronto.ca/event/online-first-contract-training-social-sciences-12/
CATEGORIES:Teaching Assistants' Training Program
END:VEVENT
BEGIN:VEVENT
DTSTART;TZID=America/Toronto:20250911T120000
DTEND;TZID=America/Toronto:20250911T140000
DTSTAMP:20260422T174349
CREATED:20250812T150531Z
LAST-MODIFIED:20250911T153439Z
UID:10009104-1757592000-1757599200@teachingdev.lamp4.utoronto.ca
SUMMARY:Online First Contract Training: Sciences & Engineering
DESCRIPTION:
URL:https://teachingdev.lamp4.utoronto.ca/event/online-first-contract-training-sciences-engineering-14/
CATEGORIES:Teaching Assistants' Training Program
END:VEVENT
BEGIN:VEVENT
DTSTART;TZID=America/Toronto:20250911T140000
DTEND;TZID=America/Toronto:20250911T160000
DTSTAMP:20260422T174349
CREATED:20250812T150531Z
LAST-MODIFIED:20250911T153439Z
UID:10009105-1757599200-1757606400@teachingdev.lamp4.utoronto.ca
SUMMARY:Online First Contract Training: Humanities
DESCRIPTION:
URL:https://teachingdev.lamp4.utoronto.ca/event/online-first-contract-training-humanities-11/
CATEGORIES:Teaching Assistants' Training Program
END:VEVENT
BEGIN:VEVENT
DTSTART;TZID=America/Toronto:20250912T110000
DTEND;TZID=America/Toronto:20250912T130000
DTSTAMP:20260422T174349
CREATED:20250813T151023Z
LAST-MODIFIED:20250912T160716Z
UID:10009106-1757674800-1757682000@teachingdev.lamp4.utoronto.ca
SUMMARY:Online First Contract Training: Sciences & Engineering
DESCRIPTION:
URL:https://teachingdev.lamp4.utoronto.ca/event/online-first-contract-training-sciences-engineering-15/
CATEGORIES:Teaching Assistants' Training Program
END:VEVENT
BEGIN:VEVENT
DTSTART;TZID=America/Toronto:20250912T130000
DTEND;TZID=America/Toronto:20250912T150000
DTSTAMP:20260422T174349
CREATED:20250813T151023Z
LAST-MODIFIED:20250912T160717Z
UID:10009107-1757682000-1757689200@teachingdev.lamp4.utoronto.ca
SUMMARY:Online First Contract Training: Humanities
DESCRIPTION:
URL:https://teachingdev.lamp4.utoronto.ca/event/online-first-contract-training-humanities-12/
CATEGORIES:Teaching Assistants' Training Program
END:VEVENT
BEGIN:VEVENT
DTSTART;TZID=America/Toronto:20250912T150000
DTEND;TZID=America/Toronto:20250912T170000
DTSTAMP:20260422T174349
CREATED:20250813T151023Z
LAST-MODIFIED:20250912T160717Z
UID:10009108-1757689200-1757696400@teachingdev.lamp4.utoronto.ca
SUMMARY:Online First Contract Training: Social Sciences
DESCRIPTION:
URL:https://teachingdev.lamp4.utoronto.ca/event/online-first-contract-training-social-sciences-13/
CATEGORIES:Teaching Assistants' Training Program
END:VEVENT
BEGIN:VEVENT
DTSTART;TZID=America/Toronto:20250915T140000
DTEND;TZID=America/Toronto:20250915T160000
DTSTAMP:20260422T174349
CREATED:20250816T155531Z
LAST-MODIFIED:20250915T193324Z
UID:10009109-1757944800-1757952000@teachingdev.lamp4.utoronto.ca
SUMMARY:In-Person First Contract Training: All Disciplines
DESCRIPTION:
URL:https://teachingdev.lamp4.utoronto.ca/event/in-person-first-contract-training-all-disciplines-5/
LOCATION:Name: Blackburn Room\nAddress: 130 St. George St.\nToronto\nON
CATEGORIES:Teaching Assistants' Training Program
END:VEVENT
BEGIN:VEVENT
DTSTART;TZID=America/Toronto:20250918T130000
DTEND;TZID=America/Toronto:20250918T140000
DTSTAMP:20260422T174349
CREATED:20250915T193235Z
LAST-MODIFIED:20250917T230946Z
UID:10009118-1758200400-1758204000@teachingdev.lamp4.utoronto.ca
SUMMARY:What’s Next with GenAI?: Practical Considerations for Teaching and Learning
DESCRIPTION:Facilitators: Jordan Holmes\, Senior Manager\, Teaching\, Learning and Technology\, CTSI Victoria Sheldon\, Faculty Liaison Coordinator\, Generative AI Pedagogies\, CTSI This session introduces participants to the key findings and recommendations of the University of Toronto AI Task Force Report’s (https://ai.utoronto.ca/u-of-t-ai-task-force/report/) Teaching and Learning Working Group\, highlighting the structural changes emerging across teaching and learning due to generative AI. This report provides a comprehensive framework for understanding how AI is reshaping educational practices and offers evidence-based guidance for U of T’s institutional response.  Participants will explore current student practices with GenAI\, examining both the opportunities it presents for personalized learning and the challenges it raises regarding academic integrity\, effortful learning\, and course competency development. The session will help instructors reflect on how these changes affect their teaching and will provide practical guidance for aligning course goals and classroom practices with GenAI’s evolving role. Participants will also explore how to build AI literacy into their curriculum so that students can use AI tools thoughtfully and responsibly. This webinar is Part 1 of the CTSI GenAI Workshop Series: Adapting Teaching and Assessment with Generative AI in Mind (https://teaching.utoronto.ca/teaching-uoft-genai/genai-programming/). 
URL:https://teachingdev.lamp4.utoronto.ca/event/whats-next-with-genai-practical-considerations-for-teaching-and-learning/
END:VEVENT
BEGIN:VEVENT
DTSTART;TZID=America/Toronto:20250923T140000
DTEND;TZID=America/Toronto:20250923T150000
DTSTAMP:20260422T174349
CREATED:20250915T193236Z
LAST-MODIFIED:20250922T234730Z
UID:10009119-1758636000-1758639600@teachingdev.lamp4.utoronto.ca
SUMMARY:Getting started with Generative AI tools at U of T
DESCRIPTION:Join us for an interactive virtual drop-in session designed for University of Toronto instructors and staff. We will provide an overview of the approved generative AI tools at the University and give demonstrations which will provide you with the opportunity to get hands-on experience with the suite of approved tools.Focus: Our primary goal is to familiarize you with how to access and use generative AI tools in a secure and responsible manner. We’ll guide you through logging in with privacy protections in place and compare the differences between the various technologies.What to Expect:• A comparison of the various approved generative AI tools at the University of Toronto.• A walkthrough of the secure login process for accessing U of T–approved generative AI tools.• Live demonstrations of key features across various generative AI platforms.• Open Q&A to address your questions\, concerns\, or ideas.Drop in anytime between 2:00 PM and 3:00 PM—stay for a few minutes or the full session!Don’t miss this chance to explore how approved generative AI tools can support your day-to-day work and enrich your teaching and research. We look forward to helping you confidently engage with these innovative tools.
URL:https://teachingdev.lamp4.utoronto.ca/event/getting-started-with-generative-ai-tools-at-u-of-t/
END:VEVENT
BEGIN:VEVENT
DTSTART;TZID=America/Toronto:20250924T120000
DTEND;TZID=America/Toronto:20250924T140000
DTSTAMP:20260422T174349
CREATED:20250825T190129Z
LAST-MODIFIED:20250924T130258Z
UID:10009111-1758715200-1758722400@teachingdev.lamp4.utoronto.ca
SUMMARY:TATP Pizza Social
DESCRIPTION:
URL:https://teachingdev.lamp4.utoronto.ca/event/tatp-pizza-social/
CATEGORIES:Teaching Assistants' Training Program
END:VEVENT
BEGIN:VEVENT
DTSTART;TZID=America/Toronto:20250924T140000
DTEND;TZID=America/Toronto:20250924T160000
DTSTAMP:20260422T174349
CREATED:20250825T190129Z
LAST-MODIFIED:20250924T130259Z
UID:10009112-1758722400-1758729600@teachingdev.lamp4.utoronto.ca
SUMMARY:Online First Contract Training: All Disciplines
DESCRIPTION:
URL:https://teachingdev.lamp4.utoronto.ca/event/online-first-contract-training-all-disciplines-13/
CATEGORIES:Teaching Assistants' Training Program
END:VEVENT
END:VCALENDAR