BEGIN:VCALENDAR
VERSION:2.0
PRODID:-//Centre for Teaching Support &amp; Innovation - ECPv6.15.20//NONSGML v1.0//EN
CALSCALE:GREGORIAN
METHOD:PUBLISH
X-ORIGINAL-URL:https://teachingdev.lamp4.utoronto.ca
X-WR-CALDESC:Events for Centre for Teaching Support &amp; Innovation
REFRESH-INTERVAL;VALUE=DURATION:PT1H
X-Robots-Tag:noindex
X-PUBLISHED-TTL:PT1H
BEGIN:VTIMEZONE
TZID:America/Toronto
BEGIN:DAYLIGHT
TZOFFSETFROM:-0500
TZOFFSETTO:-0400
TZNAME:EDT
DTSTART:20250309T070000
END:DAYLIGHT
BEGIN:STANDARD
TZOFFSETFROM:-0400
TZOFFSETTO:-0500
TZNAME:EST
DTSTART:20251102T060000
END:STANDARD
BEGIN:DAYLIGHT
TZOFFSETFROM:-0500
TZOFFSETTO:-0400
TZNAME:EDT
DTSTART:20260308T070000
END:DAYLIGHT
BEGIN:STANDARD
TZOFFSETFROM:-0400
TZOFFSETTO:-0500
TZNAME:EST
DTSTART:20261101T060000
END:STANDARD
BEGIN:DAYLIGHT
TZOFFSETFROM:-0500
TZOFFSETTO:-0400
TZNAME:EDT
DTSTART:20270314T070000
END:DAYLIGHT
BEGIN:STANDARD
TZOFFSETFROM:-0400
TZOFFSETTO:-0500
TZNAME:EST
DTSTART:20271107T060000
END:STANDARD
END:VTIMEZONE
BEGIN:VEVENT
DTSTART;TZID=America/Toronto:20260421T121000
DTEND;TZID=America/Toronto:20260421T130000
DTSTAMP:20260420T140648
CREATED:20251231T172106Z
LAST-MODIFIED:20260319T233319Z
UID:10009195-1776773400-1776776400@teachingdev.lamp4.utoronto.ca
SUMMARY:Building Trust Through Transparent AI Communication
DESCRIPTION:Facilitator: Victoria Sheldon\, Educational Developer\, Teaching\, Learning and Technology\, CTSI As AI tools become part of everyday practices\, clear communication about responsible AI use in your course becomes an important consideration. Grounded in the University of Toronto AI Task Force’s principles (https://ai.utoronto.ca/u-of-t-ai-task-force/report/)\, this session takes a pedagogy-driven approach to articulating AI expectations that build trust and transparency between instructors and students. In this session\, you will explore how to: • Develop syllabus statements and assignment instructions that clearly communicate when\, why\, and how AI can (or cannot) be used • Align AI policies with your learning objectives while acknowledging the realities students face • Navigate common questions and challenging conversations about AI use in your classroom • Create frameworks for ongoing dialogue rather than one-time policy statements This session provides practical strategies for communicating AI expectations in ways that support student learning. Whether you are developing your AI communication approach or refining existing strategies\, we will explore how transparent communication about GenAI serves both pedagogical goals and student development\, helping learners build critical judgment about appropriate resource use.  
URL:https://teachingdev.lamp4.utoronto.ca/event/building-trust-through-transparent-ai-communication/
END:VEVENT
END:VCALENDAR