BEGIN:VCALENDAR
VERSION:2.0
PRODID:-//Centre for Teaching Support &amp; Innovation - ECPv6.15.20//NONSGML v1.0//EN
CALSCALE:GREGORIAN
METHOD:PUBLISH
X-ORIGINAL-URL:https://teachingdev.lamp4.utoronto.ca
X-WR-CALDESC:Events for Centre for Teaching Support &amp; Innovation
REFRESH-INTERVAL;VALUE=DURATION:PT1H
X-Robots-Tag:noindex
X-PUBLISHED-TTL:PT1H
BEGIN:VTIMEZONE
TZID:America/Toronto
BEGIN:DAYLIGHT
TZOFFSETFROM:-0500
TZOFFSETTO:-0400
TZNAME:EDT
DTSTART:20250309T070000
END:DAYLIGHT
BEGIN:STANDARD
TZOFFSETFROM:-0400
TZOFFSETTO:-0500
TZNAME:EST
DTSTART:20251102T060000
END:STANDARD
BEGIN:DAYLIGHT
TZOFFSETFROM:-0500
TZOFFSETTO:-0400
TZNAME:EDT
DTSTART:20260308T070000
END:DAYLIGHT
BEGIN:STANDARD
TZOFFSETFROM:-0400
TZOFFSETTO:-0500
TZNAME:EST
DTSTART:20261101T060000
END:STANDARD
BEGIN:DAYLIGHT
TZOFFSETFROM:-0500
TZOFFSETTO:-0400
TZNAME:EDT
DTSTART:20270314T070000
END:DAYLIGHT
BEGIN:STANDARD
TZOFFSETFROM:-0400
TZOFFSETTO:-0500
TZNAME:EST
DTSTART:20271107T060000
END:STANDARD
END:VTIMEZONE
BEGIN:VEVENT
DTSTART;TZID=America/Toronto:20260319T111000
DTEND;TZID=America/Toronto:20260319T120000
DTSTAMP:20260420T002256
CREATED:20251231T172105Z
LAST-MODIFIED:20260318T233318Z
UID:10009192-1773918600-1773921600@teachingdev.lamp4.utoronto.ca
SUMMARY:Making Learning Visible in the GenAI Era
DESCRIPTION:Facilitator: Victoria Sheldon\, Educational Developer\, Teaching\, Learning and Technology\, CTSI With AI tools now widely available to students\, traditional assignment designs that focus only on final products may miss opportunities to understand and support student learning. Grounded in the University of Toronto AI Task Force’s principles (https://ai.utoronto.ca/u-of-t-ai-task-force/report/)\, this session takes a pedagogy-driven approach to assessment design that documents student thinking and development. In this session\, you will explore ways to: • Design scaffolded assignments where students document their workflows and decision-making • Create checkpoint strategies that reveal how students are thinking\, not just what they produce • Build in space for metacognitive reflection that helps students develop critical judgment about AI use • Shift from product-oriented approaches to assessment designs that prioritize transparency and the learning process while remaining sustainable and manageable This session provides practical frameworks for designing assignments where evidence of learning emerges naturally through the process. Whether you are integrating AI as a learning tool or designing assignments where AI is intentionally limited\, we will explore how process-based approaches support authentic engagement and help students develop essential judgment about when and how to use AI effectively. We will also reflect on the challenges this approach presents\, particularly around increased workload for both instructors and students\, and discuss strategies for implementing process-based assessment in sustainable ways.
URL:https://teachingdev.lamp4.utoronto.ca/event/making-learning-visible-in-the-genai-era/
END:VEVENT
BEGIN:VEVENT
DTSTART;TZID=America/Toronto:20260319T140000
DTEND;TZID=America/Toronto:20260319T160000
DTSTAMP:20260420T002256
CREATED:20260217T191610Z
LAST-MODIFIED:20260319T220336Z
UID:10009223-1773928800-1773936000@teachingdev.lamp4.utoronto.ca
SUMMARY:Translating TA Skills into a Career (Online)
DESCRIPTION:
URL:https://teachingdev.lamp4.utoronto.ca/event/translating-ta-skills-into-a-career-online/
CATEGORIES:Teaching Assistants' Training Program
END:VEVENT
BEGIN:VEVENT
DTSTART;TZID=America/Toronto:20260319T150000
DTEND;TZID=America/Toronto:20260319T170000
DTSTAMP:20260420T002256
CREATED:20260217T191610Z
LAST-MODIFIED:20260319T220336Z
UID:10009224-1773932400-1773939600@teachingdev.lamp4.utoronto.ca
SUMMARY:Agency and Creativity in the Classroom (In-Person)
DESCRIPTION:
URL:https://teachingdev.lamp4.utoronto.ca/event/agency-and-creativity-in-the-classroom-in-person/
LOCATION:Name: Blackburn Room\nAddress: 130 St. George St.\nToronto\nON
CATEGORIES:Teaching Assistants' Training Program
END:VEVENT
END:VCALENDAR