BEGIN:VCALENDAR
VERSION:2.0
PRODID:-//Centre for Teaching Support &amp; Innovation - ECPv6.15.20//NONSGML v1.0//EN
CALSCALE:GREGORIAN
METHOD:PUBLISH
X-ORIGINAL-URL:https://teachingdev.lamp4.utoronto.ca
X-WR-CALDESC:Events for Centre for Teaching Support &amp; Innovation
REFRESH-INTERVAL;VALUE=DURATION:PT1H
X-Robots-Tag:noindex
X-PUBLISHED-TTL:PT1H
BEGIN:VTIMEZONE
TZID:America/Toronto
BEGIN:DAYLIGHT
TZOFFSETFROM:-0500
TZOFFSETTO:-0400
TZNAME:EDT
DTSTART:20250309T070000
END:DAYLIGHT
BEGIN:STANDARD
TZOFFSETFROM:-0400
TZOFFSETTO:-0500
TZNAME:EST
DTSTART:20251102T060000
END:STANDARD
BEGIN:DAYLIGHT
TZOFFSETFROM:-0500
TZOFFSETTO:-0400
TZNAME:EDT
DTSTART:20260308T070000
END:DAYLIGHT
BEGIN:STANDARD
TZOFFSETFROM:-0400
TZOFFSETTO:-0500
TZNAME:EST
DTSTART:20261101T060000
END:STANDARD
BEGIN:DAYLIGHT
TZOFFSETFROM:-0500
TZOFFSETTO:-0400
TZNAME:EDT
DTSTART:20270314T070000
END:DAYLIGHT
BEGIN:STANDARD
TZOFFSETFROM:-0400
TZOFFSETTO:-0500
TZNAME:EST
DTSTART:20271107T060000
END:STANDARD
END:VTIMEZONE
BEGIN:VEVENT
DTSTART;TZID=America/Toronto:20260227T121000
DTEND;TZID=America/Toronto:20260227T130000
DTSTAMP:20260420T025444
CREATED:20250915T193305Z
LAST-MODIFIED:20260226T214848Z
UID:10009144-1772194200-1772197200@teachingdev.lamp4.utoronto.ca
SUMMARY:Reconciliation in Practice: A Learning Community for Faculty and Staff
DESCRIPTION:The Centre for Teaching Support & Innovation’s Reconciliation in Practice: A Learning Community for Faculty and Staff is a monthly professional learning series that offers a reflective and supportive space for faculty and staff who wish to engage more meaningfully with reconciliation in their teaching\, research\, service\, and daily practices. Each month\, participants are introduced to a concrete\, accessible strategy drawn from reconciliation-focused resources and scholarship. These strategies guide reflection and action\, encouraging participants to explore their roles\, responsibilities\, and relationships within the university context. Sessions are designed to be accessible and action-oriented. Participants will explore themes such as learning Indigenous histories\, building respectful relationships\, challenging colonial habits\, and integrating reconciliation into their professional and personal lives. While all are welcome\, the series is especially supportive of non-Indigenous faculty and staff who are seeking to build understanding\, reflect with humility\, and take ongoing action in respectful and responsible ways. This is a reflective\, supportive\, and non-judgmental space where members commit to learning with humility and taking responsibility for their part in reconciliation. Learning Outcomes By participating in this community\, members will: • Engage with reconciliation as an ongoing personal and professional practice grounded in Indigenous- and settler-informed perspectives. • Reflect critically and honestly on their roles and responsibilities within academic and institutional contexts. • Apply selected reconciliation strategies to their own contexts (e.g.\, teaching\, collaboration\, governance\, mentorship). • Build capacity for relational accountability\, humility\, and allyship in their work. • Participate in a community of practice that encourages sustained\, collective\, and evolving learning. Community Commitments This community supports faculty and staff in approaching reconciliation as a long-term relational process\, not as a checklist. We agree to approach this work with: • Humility: recognizing what we don’t know and being open to discomfort • Accountability: taking responsibility for our learning and action • Respect: for Indigenous perspectives\, for one another\, and for the land • Reflection: not only on what we learn\, but how we carry it forward We understand that reconciliation involves both inner work and outward change—in our classrooms\, committees\, collaborations\, and beyond. Upcoming Sessions The Reconciliation in Practice community meets on the last Friday of the month from 12:10 pm to 1 pm. Upcoming 2025–26 dates include: • September 26\, 2025 (https://ctsi.eve.utoronto.ca/home/events/6026) • October 31\, 2025 (https://ctsi.eve.utoronto.ca/home/events/6027) • November 28\, 2025 (https://ctsi.eve.utoronto.ca/home/events/6028) • January 30\, 2026 (https://ctsi.eve.utoronto.ca/home/events/6029) • February 27\, 2026 • March 27\, 2026 (https://ctsi.eve.utoronto.ca/home/events/6032) • April 24\, 2026 (https://ctsi.eve.utoronto.ca/home/events/6033) 
URL:https://teachingdev.lamp4.utoronto.ca/event/reconciliation-in-practice-a-learning-community-for-faculty-and-staff-4/
END:VEVENT
END:VCALENDAR