BEGIN:VCALENDAR
VERSION:2.0
PRODID:-//Centre for Teaching Support &amp; Innovation - ECPv6.15.20//NONSGML v1.0//EN
CALSCALE:GREGORIAN
METHOD:PUBLISH
X-ORIGINAL-URL:https://teachingdev.lamp4.utoronto.ca
X-WR-CALDESC:Events for Centre for Teaching Support &amp; Innovation
REFRESH-INTERVAL;VALUE=DURATION:PT1H
X-Robots-Tag:noindex
X-PUBLISHED-TTL:PT1H
BEGIN:VTIMEZONE
TZID:America/Toronto
BEGIN:DAYLIGHT
TZOFFSETFROM:-0500
TZOFFSETTO:-0400
TZNAME:EDT
DTSTART:20250309T070000
END:DAYLIGHT
BEGIN:STANDARD
TZOFFSETFROM:-0400
TZOFFSETTO:-0500
TZNAME:EST
DTSTART:20251102T060000
END:STANDARD
BEGIN:DAYLIGHT
TZOFFSETFROM:-0500
TZOFFSETTO:-0400
TZNAME:EDT
DTSTART:20260308T070000
END:DAYLIGHT
BEGIN:STANDARD
TZOFFSETFROM:-0400
TZOFFSETTO:-0500
TZNAME:EST
DTSTART:20261101T060000
END:STANDARD
BEGIN:DAYLIGHT
TZOFFSETFROM:-0500
TZOFFSETTO:-0400
TZNAME:EDT
DTSTART:20270314T070000
END:DAYLIGHT
BEGIN:STANDARD
TZOFFSETFROM:-0400
TZOFFSETTO:-0500
TZNAME:EST
DTSTART:20271107T060000
END:STANDARD
END:VTIMEZONE
BEGIN:VEVENT
DTSTART;TZID=America/Toronto:20260210T100000
DTEND;TZID=America/Toronto:20260210T110000
DTSTAMP:20260420T085115
CREATED:20260111T153622Z
LAST-MODIFIED:20260210T163121Z
UID:10009202-1770717600-1770721200@teachingdev.lamp4.utoronto.ca
SUMMARY:52 Ways to Reconcile with Teaching and Learning: Histories (Online)
DESCRIPTION:
URL:https://teachingdev.lamp4.utoronto.ca/event/52-ways-to-reconcile-with-teaching-and-learning-histories-online/
CATEGORIES:Teaching Assistants' Training Program
END:VEVENT
END:VCALENDAR