BEGIN:VCALENDAR
VERSION:2.0
PRODID:-//Centre for Teaching Support &amp; Innovation - ECPv6.15.20//NONSGML v1.0//EN
CALSCALE:GREGORIAN
METHOD:PUBLISH
X-ORIGINAL-URL:https://teachingdev.lamp4.utoronto.ca
X-WR-CALDESC:Events for Centre for Teaching Support &amp; Innovation
REFRESH-INTERVAL;VALUE=DURATION:PT1H
X-Robots-Tag:noindex
X-PUBLISHED-TTL:PT1H
BEGIN:VTIMEZONE
TZID:America/Toronto
BEGIN:DAYLIGHT
TZOFFSETFROM:-0500
TZOFFSETTO:-0400
TZNAME:EDT
DTSTART:20240310T070000
END:DAYLIGHT
BEGIN:STANDARD
TZOFFSETFROM:-0400
TZOFFSETTO:-0500
TZNAME:EST
DTSTART:20241103T060000
END:STANDARD
BEGIN:DAYLIGHT
TZOFFSETFROM:-0500
TZOFFSETTO:-0400
TZNAME:EDT
DTSTART:20250309T070000
END:DAYLIGHT
BEGIN:STANDARD
TZOFFSETFROM:-0400
TZOFFSETTO:-0500
TZNAME:EST
DTSTART:20251102T060000
END:STANDARD
BEGIN:DAYLIGHT
TZOFFSETFROM:-0500
TZOFFSETTO:-0400
TZNAME:EDT
DTSTART:20260308T070000
END:DAYLIGHT
BEGIN:STANDARD
TZOFFSETFROM:-0400
TZOFFSETTO:-0500
TZNAME:EST
DTSTART:20261101T060000
END:STANDARD
END:VTIMEZONE
BEGIN:VEVENT
DTSTART;TZID=America/Toronto:20251113T140000
DTEND;TZID=America/Toronto:20251113T170000
DTSTAMP:20260420T085114
CREATED:20251014T201643Z
LAST-MODIFIED:20251113T220628Z
UID:10009161-1763042400-1763053200@teachingdev.lamp4.utoronto.ca
SUMMARY:Microteaching (In-Person) – CANCELLED
DESCRIPTION:
URL:https://teachingdev.lamp4.utoronto.ca/event/microteaching-in-person-17/
LOCATION:Name: Robarts Library Rm 4035\nAddress: 130 St. George St.\nToronto\nON\nM5S 1A5
CATEGORIES:Teaching Assistants' Training Program
END:VEVENT
END:VCALENDAR