BEGIN:VCALENDAR
VERSION:2.0
PRODID:-//Centre for Teaching Support &amp; Innovation - ECPv6.15.20//NONSGML v1.0//EN
CALSCALE:GREGORIAN
METHOD:PUBLISH
X-ORIGINAL-URL:https://teachingdev.lamp4.utoronto.ca
X-WR-CALDESC:Events for Centre for Teaching Support &amp; Innovation
REFRESH-INTERVAL;VALUE=DURATION:PT1H
X-Robots-Tag:noindex
X-PUBLISHED-TTL:PT1H
BEGIN:VTIMEZONE
TZID:America/Toronto
BEGIN:DAYLIGHT
TZOFFSETFROM:-0500
TZOFFSETTO:-0400
TZNAME:EDT
DTSTART:20240310T070000
END:DAYLIGHT
BEGIN:STANDARD
TZOFFSETFROM:-0400
TZOFFSETTO:-0500
TZNAME:EST
DTSTART:20241103T060000
END:STANDARD
BEGIN:DAYLIGHT
TZOFFSETFROM:-0500
TZOFFSETTO:-0400
TZNAME:EDT
DTSTART:20250309T070000
END:DAYLIGHT
BEGIN:STANDARD
TZOFFSETFROM:-0400
TZOFFSETTO:-0500
TZNAME:EST
DTSTART:20251102T060000
END:STANDARD
BEGIN:DAYLIGHT
TZOFFSETFROM:-0500
TZOFFSETTO:-0400
TZNAME:EDT
DTSTART:20260308T070000
END:DAYLIGHT
BEGIN:STANDARD
TZOFFSETFROM:-0400
TZOFFSETTO:-0500
TZNAME:EST
DTSTART:20261101T060000
END:STANDARD
END:VTIMEZONE
BEGIN:VEVENT
DTSTART;TZID=America/Toronto:20250512T090000
DTEND;TZID=America/Toronto:20250513T170000
DTSTAMP:20260420T020522
CREATED:20250414T202023Z
LAST-MODIFIED:20250512T215030Z
UID:10009076-1747040400-1747155600@teachingdev.lamp4.utoronto.ca
SUMMARY:2025 University of Toronto Teaching and Learning Symposium: Teaching and Learning for Human Flourishing
DESCRIPTION:May 12 (online) May 13 (in-person\, Myhal Centre\, 55 St. George Street)To review session descriptions\, scroll down to TIMETABLE and select individual sessions or go to the TLS2025 site (https://tls.utoronto.ca/agenda/) for full agenda. Note: Registration for lunch is required. Once registered\, you can review your selected sessions by:• Scroll down and click the MY SESSIONS tab. You can change or update your session on this tab\, as well. • Visit the TLS2025 site (https://tls.utoronto.ca/) to view your timetable (you will need to log in to the TLS site using your UTORid before this tab is visible).Registration closed on May 5th at 9amIf you have any questions about TLS2025\, please contact tls@utoronto.ca (mailto:%20tls@utoronto.ca).
URL:https://teachingdev.lamp4.utoronto.ca/event/2025-university-of-toronto-teaching-and-learning-symposium-teaching-and-learning-for-human-flourishing/
LOCATION:Name: Myhal Centre (55 St. George Street)\nAddress:
END:VEVENT
BEGIN:VEVENT
DTSTART;TZID=America/Toronto:20250512T140000
DTEND;TZID=America/Toronto:20250512T160000
DTSTAMP:20260420T020522
CREATED:20250502T192028Z
LAST-MODIFIED:20250512T200532Z
UID:10009077-1747058400-1747065600@teachingdev.lamp4.utoronto.ca
SUMMARY:Online First Contract Training: All Disciplines
DESCRIPTION:
URL:https://teachingdev.lamp4.utoronto.ca/event/online-first-contract-training-all-disciplines-11/
CATEGORIES:Teaching Assistants' Training Program
END:VEVENT
END:VCALENDAR