BEGIN:VCALENDAR
VERSION:2.0
PRODID:-//Centre for Teaching Support &amp; Innovation - ECPv6.15.20//NONSGML v1.0//EN
CALSCALE:GREGORIAN
METHOD:PUBLISH
X-ORIGINAL-URL:https://teachingdev.lamp4.utoronto.ca
X-WR-CALDESC:Events for Centre for Teaching Support &amp; Innovation
REFRESH-INTERVAL;VALUE=DURATION:PT1H
X-Robots-Tag:noindex
X-PUBLISHED-TTL:PT1H
BEGIN:VTIMEZONE
TZID:America/Toronto
BEGIN:DAYLIGHT
TZOFFSETFROM:-0500
TZOFFSETTO:-0400
TZNAME:EDT
DTSTART:20240310T070000
END:DAYLIGHT
BEGIN:STANDARD
TZOFFSETFROM:-0400
TZOFFSETTO:-0500
TZNAME:EST
DTSTART:20241103T060000
END:STANDARD
BEGIN:DAYLIGHT
TZOFFSETFROM:-0500
TZOFFSETTO:-0400
TZNAME:EDT
DTSTART:20250309T070000
END:DAYLIGHT
BEGIN:STANDARD
TZOFFSETFROM:-0400
TZOFFSETTO:-0500
TZNAME:EST
DTSTART:20251102T060000
END:STANDARD
BEGIN:DAYLIGHT
TZOFFSETFROM:-0500
TZOFFSETTO:-0400
TZNAME:EDT
DTSTART:20260308T070000
END:DAYLIGHT
BEGIN:STANDARD
TZOFFSETFROM:-0400
TZOFFSETTO:-0500
TZNAME:EST
DTSTART:20261101T060000
END:STANDARD
END:VTIMEZONE
BEGIN:VEVENT
DTSTART;TZID=America/Toronto:20250203T133000
DTEND;TZID=America/Toronto:20250203T140000
DTSTAMP:20260420T072243
CREATED:20241203T213530Z
LAST-MODIFIED:20250128T151629Z
UID:10009009-1738589400-1738591200@teachingdev.lamp4.utoronto.ca
SUMMARY:UDL Conversation with Cheryl Lepard
DESCRIPTION:Facilitator: Cheryl Lepard\, Educational Developer\, Universal Design for Learning\, Centre for Teaching and Learning\, UTSC Universal Design for Learning (UDL) (https://teaching.utoronto.ca/resources/universal-design-for-learning/) is an educational framework that leverages the values of accessibility and inclusion in designing accessible\, inclusive\, and usable methods\, materials\, and environments that reduce learning barriers and welcome learner variability.The UDL Conversations Series (https://teaching.utoronto.ca/udl-conversations/) highlights practices and considerations from U of T staff and instructors. Starting Winter 2025\, come chat with and learn from our community in fostering accessible and inclusive teaching and learning for all.
URL:https://teachingdev.lamp4.utoronto.ca/event/udl-conversation-with-cheryl-lepard/
END:VEVENT
END:VCALENDAR